BEGIN:VCALENDAR
PRODID:-//eluceo/ical//2.0/EN
VERSION:2.0
CALSCALE:GREGORIAN
BEGIN:VEVENT
UID:60e5a04f80e91930fe2e7fbf49855576
DTSTAMP:20260421T145208Z
SUMMARY:Toilet Training Workshops
DESCRIPTION:Description:\nReady to start toilet training your child but not
  sure where to start?\nOur Toilet Training Workshop is here to help! Join 
 us for practical advice on spotting the signs your child is ready\, how to
  approach toilet or potty training confidently\, and plenty of handy tips 
 to make the process smoother for everyone.\nThis workshop is for parents a
 nd carers of children aged 18 months and older (please don’t book if you
 r child is younger). Open to families living in the London Borough of Sutt
 on\, this session is co-facilitated by an Early Years Practitioner from th
 e Children’s Centre and a Community Nursery Nurse from the Health Visiti
 ng Team.\n By booking\, you consent to sharing your details with Sutton H
 ealth & Care for the purposes of this workshop. Let’s make toilet traini
 ng feel a little less daunting and a lot more doable!\n\n\nRequirements:\n
 Before attending your first session\, please take a moment to fill out our
  quick registration form:\nClick here to register\nhttps://docs.google.com
 /forms/d/e/1FAIpQLScTkwT_X-O9kHnMREh7qpAXg2_cJP-yibehmWoxeAFeHQgiVg/viewfo
 rm\n\nRegistering helps us keep in touch and continue improving our servic
 es for you and your family. We may contact you occasionally for feedback a
 bout the sessions you’ve attended or to send you reminders about your bo
 okings.\n\nA few gentle reminders:\nPlease keep mobile phones on silent du
 ring sessions and only use them for calls in an emergency.\n We kindly ask
  that you don’t take photos or videos during sessions. \n\nThank you for
  helping us create a welcoming\, safe\, and respectful space for everyone.
  We look forward to seeing you soon! \nIf you can’t make it\, please rem
 ember to cancel your ticket so another family can join.
URL:https://events.sutton.gov.uk/event?id=264932
DTSTART;TZID=Europe/London:20260507T100000
DTEND;TZID=Europe/London:20260507T110000
LOCATION:Sutton Central Library\, St Nicholas Way\, Sutton SM1 1EA 
END:VEVENT
BEGIN:VTIMEZONE
TZID:Europe/London
BEGIN:DAYLIGHT
DTSTART:20200501T000000
TZNAME:BST
TZOFFSETTO:+0100
TZOFFSETFROM:+0100
END:DAYLIGHT
BEGIN:STANDARD
DTSTART:20201025T010000
TZNAME:GMT
TZOFFSETTO:+0000
TZOFFSETFROM:+0100
END:STANDARD
BEGIN:DAYLIGHT
DTSTART:20210328T020000
TZNAME:BST
TZOFFSETTO:+0100
TZOFFSETFROM:+0000
END:DAYLIGHT
BEGIN:STANDARD
DTSTART:20211031T010000
TZNAME:GMT
TZOFFSETTO:+0000
TZOFFSETFROM:+0100
END:STANDARD
BEGIN:DAYLIGHT
DTSTART:20220327T020000
TZNAME:BST
TZOFFSETTO:+0100
TZOFFSETFROM:+0000
END:DAYLIGHT
BEGIN:STANDARD
DTSTART:20221030T010000
TZNAME:GMT
TZOFFSETTO:+0000
TZOFFSETFROM:+0100
END:STANDARD
BEGIN:DAYLIGHT
DTSTART:20230326T020000
TZNAME:BST
TZOFFSETTO:+0100
TZOFFSETFROM:+0000
END:DAYLIGHT
BEGIN:STANDARD
DTSTART:20231029T010000
TZNAME:GMT
TZOFFSETTO:+0000
TZOFFSETFROM:+0100
END:STANDARD
BEGIN:DAYLIGHT
DTSTART:20240331T020000
TZNAME:BST
TZOFFSETTO:+0100
TZOFFSETFROM:+0000
END:DAYLIGHT
BEGIN:STANDARD
DTSTART:20241027T010000
TZNAME:GMT
TZOFFSETTO:+0000
TZOFFSETFROM:+0100
END:STANDARD
BEGIN:DAYLIGHT
DTSTART:20250330T020000
TZNAME:BST
TZOFFSETTO:+0100
TZOFFSETFROM:+0000
END:DAYLIGHT
BEGIN:STANDARD
DTSTART:20251026T010000
TZNAME:GMT
TZOFFSETTO:+0000
TZOFFSETFROM:+0100
END:STANDARD
BEGIN:DAYLIGHT
DTSTART:20260329T020000
TZNAME:BST
TZOFFSETTO:+0100
TZOFFSETFROM:+0000
END:DAYLIGHT
BEGIN:STANDARD
DTSTART:20261025T010000
TZNAME:GMT
TZOFFSETTO:+0000
TZOFFSETFROM:+0100
END:STANDARD
BEGIN:DAYLIGHT
DTSTART:20270328T020000
TZNAME:BST
TZOFFSETTO:+0100
TZOFFSETFROM:+0000
END:DAYLIGHT
BEGIN:STANDARD
DTSTART:20271031T010000
TZNAME:GMT
TZOFFSETTO:+0000
TZOFFSETFROM:+0100
END:STANDARD
BEGIN:DAYLIGHT
DTSTART:20280326T020000
TZNAME:BST
TZOFFSETTO:+0100
TZOFFSETFROM:+0000
END:DAYLIGHT
BEGIN:STANDARD
DTSTART:20281029T010000
TZNAME:GMT
TZOFFSETTO:+0000
TZOFFSETFROM:+0100
END:STANDARD
BEGIN:DAYLIGHT
DTSTART:20290325T020000
TZNAME:BST
TZOFFSETTO:+0100
TZOFFSETFROM:+0000
END:DAYLIGHT
BEGIN:STANDARD
DTSTART:20291028T010000
TZNAME:GMT
TZOFFSETTO:+0000
TZOFFSETFROM:+0100
END:STANDARD
BEGIN:DAYLIGHT
DTSTART:20300331T020000
TZNAME:BST
TZOFFSETTO:+0100
TZOFFSETFROM:+0000
END:DAYLIGHT
BEGIN:STANDARD
DTSTART:20301027T010000
TZNAME:GMT
TZOFFSETTO:+0000
TZOFFSETFROM:+0100
END:STANDARD
BEGIN:DAYLIGHT
DTSTART:20310330T020000
TZNAME:BST
TZOFFSETTO:+0100
TZOFFSETFROM:+0000
END:DAYLIGHT
BEGIN:STANDARD
DTSTART:20311026T010000
TZNAME:GMT
TZOFFSETTO:+0000
TZOFFSETFROM:+0100
END:STANDARD
BEGIN:DAYLIGHT
DTSTART:20320328T020000
TZNAME:BST
TZOFFSETTO:+0100
TZOFFSETFROM:+0000
END:DAYLIGHT
BEGIN:STANDARD
DTSTART:20321031T010000
TZNAME:GMT
TZOFFSETTO:+0000
TZOFFSETFROM:+0100
END:STANDARD
BEGIN:DAYLIGHT
DTSTART:20330327T020000
TZNAME:BST
TZOFFSETTO:+0100
TZOFFSETFROM:+0000
END:DAYLIGHT
BEGIN:STANDARD
DTSTART:20331030T010000
TZNAME:GMT
TZOFFSETTO:+0000
TZOFFSETFROM:+0100
END:STANDARD
BEGIN:DAYLIGHT
DTSTART:20340326T020000
TZNAME:BST
TZOFFSETTO:+0100
TZOFFSETFROM:+0000
END:DAYLIGHT
BEGIN:STANDARD
DTSTART:20341029T010000
TZNAME:GMT
TZOFFSETTO:+0000
TZOFFSETFROM:+0100
END:STANDARD
BEGIN:DAYLIGHT
DTSTART:20350325T020000
TZNAME:BST
TZOFFSETTO:+0100
TZOFFSETFROM:+0000
END:DAYLIGHT
BEGIN:STANDARD
DTSTART:20351028T010000
TZNAME:GMT
TZOFFSETTO:+0000
TZOFFSETFROM:+0100
END:STANDARD
BEGIN:DAYLIGHT
DTSTART:20360330T020000
TZNAME:BST
TZOFFSETTO:+0100
TZOFFSETFROM:+0000
END:DAYLIGHT
BEGIN:STANDARD
DTSTART:20361026T010000
TZNAME:GMT
TZOFFSETTO:+0000
TZOFFSETFROM:+0100
END:STANDARD
BEGIN:DAYLIGHT
DTSTART:20370329T020000
TZNAME:BST
TZOFFSETTO:+0100
TZOFFSETFROM:+0000
END:DAYLIGHT
BEGIN:STANDARD
DTSTART:20371025T010000
TZNAME:GMT
TZOFFSETTO:+0000
TZOFFSETFROM:+0100
END:STANDARD
BEGIN:DAYLIGHT
DTSTART:20380328T020000
TZNAME:BST
TZOFFSETTO:+0100
TZOFFSETFROM:+0000
END:DAYLIGHT
BEGIN:STANDARD
DTSTART:20381031T010000
TZNAME:GMT
TZOFFSETTO:+0000
TZOFFSETFROM:+0100
END:STANDARD
BEGIN:DAYLIGHT
DTSTART:20390327T020000
TZNAME:BST
TZOFFSETTO:+0100
TZOFFSETFROM:+0000
END:DAYLIGHT
BEGIN:STANDARD
DTSTART:20391030T010000
TZNAME:GMT
TZOFFSETTO:+0000
TZOFFSETFROM:+0100
END:STANDARD
BEGIN:DAYLIGHT
DTSTART:20400325T020000
TZNAME:BST
TZOFFSETTO:+0100
TZOFFSETFROM:+0000
END:DAYLIGHT
BEGIN:STANDARD
DTSTART:20401028T010000
TZNAME:GMT
TZOFFSETTO:+0000
TZOFFSETFROM:+0100
END:STANDARD
BEGIN:DAYLIGHT
DTSTART:20410331T020000
TZNAME:BST
TZOFFSETTO:+0100
TZOFFSETFROM:+0000
END:DAYLIGHT
BEGIN:STANDARD
DTSTART:20411027T010000
TZNAME:GMT
TZOFFSETTO:+0000
TZOFFSETFROM:+0100
END:STANDARD
BEGIN:DAYLIGHT
DTSTART:20420330T020000
TZNAME:BST
TZOFFSETTO:+0100
TZOFFSETFROM:+0000
END:DAYLIGHT
BEGIN:STANDARD
DTSTART:20421026T010000
TZNAME:GMT
TZOFFSETTO:+0000
TZOFFSETFROM:+0100
END:STANDARD
BEGIN:DAYLIGHT
DTSTART:20430329T020000
TZNAME:BST
TZOFFSETTO:+0100
TZOFFSETFROM:+0000
END:DAYLIGHT
BEGIN:STANDARD
DTSTART:20431025T010000
TZNAME:GMT
TZOFFSETTO:+0000
TZOFFSETFROM:+0100
END:STANDARD
BEGIN:DAYLIGHT
DTSTART:20440327T020000
TZNAME:BST
TZOFFSETTO:+0100
TZOFFSETFROM:+0000
END:DAYLIGHT
BEGIN:STANDARD
DTSTART:20441030T010000
TZNAME:GMT
TZOFFSETTO:+0000
TZOFFSETFROM:+0100
END:STANDARD
BEGIN:DAYLIGHT
DTSTART:20450326T020000
TZNAME:BST
TZOFFSETTO:+0100
TZOFFSETFROM:+0000
END:DAYLIGHT
BEGIN:STANDARD
DTSTART:20451029T010000
TZNAME:GMT
TZOFFSETTO:+0000
TZOFFSETFROM:+0100
END:STANDARD
BEGIN:DAYLIGHT
DTSTART:20460325T020000
TZNAME:BST
TZOFFSETTO:+0100
TZOFFSETFROM:+0000
END:DAYLIGHT
BEGIN:STANDARD
DTSTART:20461028T010000
TZNAME:GMT
TZOFFSETTO:+0000
TZOFFSETFROM:+0100
END:STANDARD
BEGIN:DAYLIGHT
DTSTART:20470331T020000
TZNAME:BST
TZOFFSETTO:+0100
TZOFFSETFROM:+0000
END:DAYLIGHT
BEGIN:STANDARD
DTSTART:20471027T010000
TZNAME:GMT
TZOFFSETTO:+0000
TZOFFSETFROM:+0100
END:STANDARD
BEGIN:DAYLIGHT
DTSTART:20480329T020000
TZNAME:BST
TZOFFSETTO:+0100
TZOFFSETFROM:+0000
END:DAYLIGHT
BEGIN:STANDARD
DTSTART:20481025T010000
TZNAME:GMT
TZOFFSETTO:+0000
TZOFFSETFROM:+0100
END:STANDARD
BEGIN:DAYLIGHT
DTSTART:20490328T020000
TZNAME:BST
TZOFFSETTO:+0100
TZOFFSETFROM:+0000
END:DAYLIGHT
BEGIN:STANDARD
DTSTART:20491031T010000
TZNAME:GMT
TZOFFSETTO:+0000
TZOFFSETFROM:+0100
END:STANDARD
BEGIN:DAYLIGHT
DTSTART:20500327T020000
TZNAME:BST
TZOFFSETTO:+0100
TZOFFSETFROM:+0000
END:DAYLIGHT
BEGIN:STANDARD
DTSTART:20501030T010000
TZNAME:GMT
TZOFFSETTO:+0000
TZOFFSETFROM:+0100
END:STANDARD
BEGIN:DAYLIGHT
DTSTART:20510326T020000
TZNAME:BST
TZOFFSETTO:+0100
TZOFFSETFROM:+0000
END:DAYLIGHT
BEGIN:STANDARD
DTSTART:20511029T010000
TZNAME:GMT
TZOFFSETTO:+0000
TZOFFSETFROM:+0100
END:STANDARD
BEGIN:DAYLIGHT
DTSTART:20520331T020000
TZNAME:BST
TZOFFSETTO:+0100
TZOFFSETFROM:+0000
END:DAYLIGHT
BEGIN:STANDARD
DTSTART:20521027T010000
TZNAME:GMT
TZOFFSETTO:+0000
TZOFFSETFROM:+0100
END:STANDARD
BEGIN:DAYLIGHT
DTSTART:20530330T020000
TZNAME:BST
TZOFFSETTO:+0100
TZOFFSETFROM:+0000
END:DAYLIGHT
BEGIN:STANDARD
DTSTART:20531026T010000
TZNAME:GMT
TZOFFSETTO:+0000
TZOFFSETFROM:+0100
END:STANDARD
BEGIN:DAYLIGHT
DTSTART:20540329T020000
TZNAME:BST
TZOFFSETTO:+0100
TZOFFSETFROM:+0000
END:DAYLIGHT
BEGIN:STANDARD
DTSTART:20541025T010000
TZNAME:GMT
TZOFFSETTO:+0000
TZOFFSETFROM:+0100
END:STANDARD
BEGIN:DAYLIGHT
DTSTART:20550328T020000
TZNAME:BST
TZOFFSETTO:+0100
TZOFFSETFROM:+0000
END:DAYLIGHT
BEGIN:STANDARD
DTSTART:20551031T010000
TZNAME:GMT
TZOFFSETTO:+0000
TZOFFSETFROM:+0100
END:STANDARD
BEGIN:DAYLIGHT
DTSTART:20560326T020000
TZNAME:BST
TZOFFSETTO:+0100
TZOFFSETFROM:+0000
END:DAYLIGHT
BEGIN:STANDARD
DTSTART:20561029T010000
TZNAME:GMT
TZOFFSETTO:+0000
TZOFFSETFROM:+0100
END:STANDARD
BEGIN:DAYLIGHT
DTSTART:20570325T020000
TZNAME:BST
TZOFFSETTO:+0100
TZOFFSETFROM:+0000
END:DAYLIGHT
BEGIN:STANDARD
DTSTART:20571028T010000
TZNAME:GMT
TZOFFSETTO:+0000
TZOFFSETFROM:+0100
END:STANDARD
BEGIN:DAYLIGHT
DTSTART:20580331T020000
TZNAME:BST
TZOFFSETTO:+0100
TZOFFSETFROM:+0000
END:DAYLIGHT
BEGIN:STANDARD
DTSTART:20581027T010000
TZNAME:GMT
TZOFFSETTO:+0000
TZOFFSETFROM:+0100
END:STANDARD
BEGIN:DAYLIGHT
DTSTART:20590330T020000
TZNAME:BST
TZOFFSETTO:+0100
TZOFFSETFROM:+0000
END:DAYLIGHT
BEGIN:STANDARD
DTSTART:20591026T010000
TZNAME:GMT
TZOFFSETTO:+0000
TZOFFSETFROM:+0100
END:STANDARD
BEGIN:DAYLIGHT
DTSTART:20600328T020000
TZNAME:BST
TZOFFSETTO:+0100
TZOFFSETFROM:+0000
END:DAYLIGHT
BEGIN:STANDARD
DTSTART:20601031T010000
TZNAME:GMT
TZOFFSETTO:+0000
TZOFFSETFROM:+0100
END:STANDARD
BEGIN:DAYLIGHT
DTSTART:20610327T020000
TZNAME:BST
TZOFFSETTO:+0100
TZOFFSETFROM:+0000
END:DAYLIGHT
BEGIN:STANDARD
DTSTART:20611030T010000
TZNAME:GMT
TZOFFSETTO:+0000
TZOFFSETFROM:+0100
END:STANDARD
BEGIN:DAYLIGHT
DTSTART:20620326T020000
TZNAME:BST
TZOFFSETTO:+0100
TZOFFSETFROM:+0000
END:DAYLIGHT
BEGIN:STANDARD
DTSTART:20621029T010000
TZNAME:GMT
TZOFFSETTO:+0000
TZOFFSETFROM:+0100
END:STANDARD
BEGIN:DAYLIGHT
DTSTART:20630325T020000
TZNAME:BST
TZOFFSETTO:+0100
TZOFFSETFROM:+0000
END:DAYLIGHT
BEGIN:STANDARD
DTSTART:20631028T010000
TZNAME:GMT
TZOFFSETTO:+0000
TZOFFSETFROM:+0100
END:STANDARD
BEGIN:DAYLIGHT
DTSTART:20640330T020000
TZNAME:BST
TZOFFSETTO:+0100
TZOFFSETFROM:+0000
END:DAYLIGHT
BEGIN:STANDARD
DTSTART:20641026T010000
TZNAME:GMT
TZOFFSETTO:+0000
TZOFFSETFROM:+0100
END:STANDARD
BEGIN:DAYLIGHT
DTSTART:20650329T020000
TZNAME:BST
TZOFFSETTO:+0100
TZOFFSETFROM:+0000
END:DAYLIGHT
BEGIN:STANDARD
DTSTART:20651025T010000
TZNAME:GMT
TZOFFSETTO:+0000
TZOFFSETFROM:+0100
END:STANDARD
BEGIN:DAYLIGHT
DTSTART:20660328T020000
TZNAME:BST
TZOFFSETTO:+0100
TZOFFSETFROM:+0000
END:DAYLIGHT
BEGIN:STANDARD
DTSTART:20661031T010000
TZNAME:GMT
TZOFFSETTO:+0000
TZOFFSETFROM:+0100
END:STANDARD
BEGIN:DAYLIGHT
DTSTART:20670327T020000
TZNAME:BST
TZOFFSETTO:+0100
TZOFFSETFROM:+0000
END:DAYLIGHT
BEGIN:STANDARD
DTSTART:20671030T010000
TZNAME:GMT
TZOFFSETTO:+0000
TZOFFSETFROM:+0100
END:STANDARD
BEGIN:DAYLIGHT
DTSTART:20680325T020000
TZNAME:BST
TZOFFSETTO:+0100
TZOFFSETFROM:+0000
END:DAYLIGHT
BEGIN:STANDARD
DTSTART:20681028T010000
TZNAME:GMT
TZOFFSETTO:+0000
TZOFFSETFROM:+0100
END:STANDARD
BEGIN:DAYLIGHT
DTSTART:20690331T020000
TZNAME:BST
TZOFFSETTO:+0100
TZOFFSETFROM:+0000
END:DAYLIGHT
BEGIN:STANDARD
DTSTART:20691027T010000
TZNAME:GMT
TZOFFSETTO:+0000
TZOFFSETFROM:+0100
END:STANDARD
BEGIN:DAYLIGHT
DTSTART:20700330T020000
TZNAME:BST
TZOFFSETTO:+0100
TZOFFSETFROM:+0000
END:DAYLIGHT
BEGIN:STANDARD
DTSTART:20701026T010000
TZNAME:GMT
TZOFFSETTO:+0000
TZOFFSETFROM:+0100
END:STANDARD
BEGIN:DAYLIGHT
DTSTART:20710329T020000
TZNAME:BST
TZOFFSETTO:+0100
TZOFFSETFROM:+0000
END:DAYLIGHT
BEGIN:STANDARD
DTSTART:20711025T010000
TZNAME:GMT
TZOFFSETTO:+0000
TZOFFSETFROM:+0100
END:STANDARD
BEGIN:DAYLIGHT
DTSTART:20720327T020000
TZNAME:BST
TZOFFSETTO:+0100
TZOFFSETFROM:+0000
END:DAYLIGHT
BEGIN:STANDARD
DTSTART:20721030T010000
TZNAME:GMT
TZOFFSETTO:+0000
TZOFFSETFROM:+0100
END:STANDARD
BEGIN:DAYLIGHT
DTSTART:20730326T020000
TZNAME:BST
TZOFFSETTO:+0100
TZOFFSETFROM:+0000
END:DAYLIGHT
BEGIN:STANDARD
DTSTART:20731029T010000
TZNAME:GMT
TZOFFSETTO:+0000
TZOFFSETFROM:+0100
END:STANDARD
BEGIN:DAYLIGHT
DTSTART:20740325T020000
TZNAME:BST
TZOFFSETTO:+0100
TZOFFSETFROM:+0000
END:DAYLIGHT
BEGIN:STANDARD
DTSTART:20741028T010000
TZNAME:GMT
TZOFFSETTO:+0000
TZOFFSETFROM:+0100
END:STANDARD
BEGIN:DAYLIGHT
DTSTART:20750331T020000
TZNAME:BST
TZOFFSETTO:+0100
TZOFFSETFROM:+0000
END:DAYLIGHT
BEGIN:STANDARD
DTSTART:20751027T010000
TZNAME:GMT
TZOFFSETTO:+0000
TZOFFSETFROM:+0100
END:STANDARD
BEGIN:DAYLIGHT
DTSTART:20760329T020000
TZNAME:BST
TZOFFSETTO:+0100
TZOFFSETFROM:+0000
END:DAYLIGHT
BEGIN:STANDARD
DTSTART:20761025T010000
TZNAME:GMT
TZOFFSETTO:+0000
TZOFFSETFROM:+0100
END:STANDARD
BEGIN:DAYLIGHT
DTSTART:20770328T020000
TZNAME:BST
TZOFFSETTO:+0100
TZOFFSETFROM:+0000
END:DAYLIGHT
BEGIN:STANDARD
DTSTART:20771031T010000
TZNAME:GMT
TZOFFSETTO:+0000
TZOFFSETFROM:+0100
END:STANDARD
BEGIN:DAYLIGHT
DTSTART:20780327T020000
TZNAME:BST
TZOFFSETTO:+0100
TZOFFSETFROM:+0000
END:DAYLIGHT
BEGIN:STANDARD
DTSTART:20781030T010000
TZNAME:GMT
TZOFFSETTO:+0000
TZOFFSETFROM:+0100
END:STANDARD
BEGIN:DAYLIGHT
DTSTART:20790326T020000
TZNAME:BST
TZOFFSETTO:+0100
TZOFFSETFROM:+0000
END:DAYLIGHT
BEGIN:STANDARD
DTSTART:20791029T010000
TZNAME:GMT
TZOFFSETTO:+0000
TZOFFSETFROM:+0100
END:STANDARD
BEGIN:DAYLIGHT
DTSTART:20800331T020000
TZNAME:BST
TZOFFSETTO:+0100
TZOFFSETFROM:+0000
END:DAYLIGHT
BEGIN:STANDARD
DTSTART:20801027T010000
TZNAME:GMT
TZOFFSETTO:+0000
TZOFFSETFROM:+0100
END:STANDARD
BEGIN:DAYLIGHT
DTSTART:20810330T020000
TZNAME:BST
TZOFFSETTO:+0100
TZOFFSETFROM:+0000
END:DAYLIGHT
BEGIN:STANDARD
DTSTART:20811026T010000
TZNAME:GMT
TZOFFSETTO:+0000
TZOFFSETFROM:+0100
END:STANDARD
BEGIN:DAYLIGHT
DTSTART:20820329T020000
TZNAME:BST
TZOFFSETTO:+0100
TZOFFSETFROM:+0000
END:DAYLIGHT
BEGIN:STANDARD
DTSTART:20821025T010000
TZNAME:GMT
TZOFFSETTO:+0000
TZOFFSETFROM:+0100
END:STANDARD
BEGIN:DAYLIGHT
DTSTART:20830328T020000
TZNAME:BST
TZOFFSETTO:+0100
TZOFFSETFROM:+0000
END:DAYLIGHT
BEGIN:STANDARD
DTSTART:20831031T010000
TZNAME:GMT
TZOFFSETTO:+0000
TZOFFSETFROM:+0100
END:STANDARD
BEGIN:DAYLIGHT
DTSTART:20840326T020000
TZNAME:BST
TZOFFSETTO:+0100
TZOFFSETFROM:+0000
END:DAYLIGHT
BEGIN:STANDARD
DTSTART:20841029T010000
TZNAME:GMT
TZOFFSETTO:+0000
TZOFFSETFROM:+0100
END:STANDARD
BEGIN:DAYLIGHT
DTSTART:20850325T020000
TZNAME:BST
TZOFFSETTO:+0100
TZOFFSETFROM:+0000
END:DAYLIGHT
BEGIN:STANDARD
DTSTART:20851028T010000
TZNAME:GMT
TZOFFSETTO:+0000
TZOFFSETFROM:+0100
END:STANDARD
BEGIN:DAYLIGHT
DTSTART:20860331T020000
TZNAME:BST
TZOFFSETTO:+0100
TZOFFSETFROM:+0000
END:DAYLIGHT
BEGIN:STANDARD
DTSTART:20861027T010000
TZNAME:GMT
TZOFFSETTO:+0000
TZOFFSETFROM:+0100
END:STANDARD
BEGIN:DAYLIGHT
DTSTART:20870330T020000
TZNAME:BST
TZOFFSETTO:+0100
TZOFFSETFROM:+0000
END:DAYLIGHT
BEGIN:STANDARD
DTSTART:20871026T010000
TZNAME:GMT
TZOFFSETTO:+0000
TZOFFSETFROM:+0100
END:STANDARD
BEGIN:DAYLIGHT
DTSTART:20880328T020000
TZNAME:BST
TZOFFSETTO:+0100
TZOFFSETFROM:+0000
END:DAYLIGHT
BEGIN:STANDARD
DTSTART:20881031T010000
TZNAME:GMT
TZOFFSETTO:+0000
TZOFFSETFROM:+0100
END:STANDARD
BEGIN:DAYLIGHT
DTSTART:20890327T020000
TZNAME:BST
TZOFFSETTO:+0100
TZOFFSETFROM:+0000
END:DAYLIGHT
BEGIN:STANDARD
DTSTART:20891030T010000
TZNAME:GMT
TZOFFSETTO:+0000
TZOFFSETFROM:+0100
END:STANDARD
BEGIN:DAYLIGHT
DTSTART:20900326T020000
TZNAME:BST
TZOFFSETTO:+0100
TZOFFSETFROM:+0000
END:DAYLIGHT
BEGIN:STANDARD
DTSTART:20901029T010000
TZNAME:GMT
TZOFFSETTO:+0000
TZOFFSETFROM:+0100
END:STANDARD
BEGIN:DAYLIGHT
DTSTART:20910325T020000
TZNAME:BST
TZOFFSETTO:+0100
TZOFFSETFROM:+0000
END:DAYLIGHT
BEGIN:STANDARD
DTSTART:20911028T010000
TZNAME:GMT
TZOFFSETTO:+0000
TZOFFSETFROM:+0100
END:STANDARD
BEGIN:DAYLIGHT
DTSTART:20920330T020000
TZNAME:BST
TZOFFSETTO:+0100
TZOFFSETFROM:+0000
END:DAYLIGHT
BEGIN:STANDARD
DTSTART:20921026T010000
TZNAME:GMT
TZOFFSETTO:+0000
TZOFFSETFROM:+0100
END:STANDARD
BEGIN:DAYLIGHT
DTSTART:20930329T020000
TZNAME:BST
TZOFFSETTO:+0100
TZOFFSETFROM:+0000
END:DAYLIGHT
BEGIN:STANDARD
DTSTART:20931025T010000
TZNAME:GMT
TZOFFSETTO:+0000
TZOFFSETFROM:+0100
END:STANDARD
BEGIN:DAYLIGHT
DTSTART:20940328T020000
TZNAME:BST
TZOFFSETTO:+0100
TZOFFSETFROM:+0000
END:DAYLIGHT
BEGIN:STANDARD
DTSTART:20941031T010000
TZNAME:GMT
TZOFFSETTO:+0000
TZOFFSETFROM:+0100
END:STANDARD
BEGIN:DAYLIGHT
DTSTART:20950327T020000
TZNAME:BST
TZOFFSETTO:+0100
TZOFFSETFROM:+0000
END:DAYLIGHT
BEGIN:STANDARD
DTSTART:20951030T010000
TZNAME:GMT
TZOFFSETTO:+0000
TZOFFSETFROM:+0100
END:STANDARD
BEGIN:DAYLIGHT
DTSTART:20960325T020000
TZNAME:BST
TZOFFSETTO:+0100
TZOFFSETFROM:+0000
END:DAYLIGHT
BEGIN:STANDARD
DTSTART:20961028T010000
TZNAME:GMT
TZOFFSETTO:+0000
TZOFFSETFROM:+0100
END:STANDARD
BEGIN:DAYLIGHT
DTSTART:20970331T020000
TZNAME:BST
TZOFFSETTO:+0100
TZOFFSETFROM:+0000
END:DAYLIGHT
BEGIN:STANDARD
DTSTART:20971027T010000
TZNAME:GMT
TZOFFSETTO:+0000
TZOFFSETFROM:+0100
END:STANDARD
BEGIN:DAYLIGHT
DTSTART:20980330T020000
TZNAME:BST
TZOFFSETTO:+0100
TZOFFSETFROM:+0000
END:DAYLIGHT
BEGIN:STANDARD
DTSTART:20981026T010000
TZNAME:GMT
TZOFFSETTO:+0000
TZOFFSETFROM:+0100
END:STANDARD
BEGIN:DAYLIGHT
DTSTART:20990329T020000
TZNAME:BST
TZOFFSETTO:+0100
TZOFFSETFROM:+0000
END:DAYLIGHT
BEGIN:STANDARD
DTSTART:20991025T010000
TZNAME:GMT
TZOFFSETTO:+0000
TZOFFSETFROM:+0100
END:STANDARD
END:VTIMEZONE
END:VCALENDAR
